BEGIN:VCALENDAR
VERSION:2.0
PRODID:-//The Haldimand Press - ECPv6.15.20//NONSGML v1.0//EN
CALSCALE:GREGORIAN
METHOD:PUBLISH
X-WR-CALNAME:The Haldimand Press
X-ORIGINAL-URL:https://haldimandpress.com
X-WR-CALDESC:Events for The Haldimand Press
REFRESH-INTERVAL;VALUE=DURATION:PT1H
X-Robots-Tag:noindex
X-PUBLISHED-TTL:PT1H
BEGIN:VTIMEZONE
TZID:America/Toronto
BEGIN:DAYLIGHT
TZOFFSETFROM:-0500
TZOFFSETTO:-0400
TZNAME:EDT
DTSTART:20250309T070000
END:DAYLIGHT
BEGIN:STANDARD
TZOFFSETFROM:-0400
TZOFFSETTO:-0500
TZNAME:EST
DTSTART:20251102T060000
END:STANDARD
BEGIN:DAYLIGHT
TZOFFSETFROM:-0500
TZOFFSETTO:-0400
TZNAME:EDT
DTSTART:20260308T070000
END:DAYLIGHT
BEGIN:STANDARD
TZOFFSETFROM:-0400
TZOFFSETTO:-0500
TZNAME:EST
DTSTART:20261101T060000
END:STANDARD
BEGIN:DAYLIGHT
TZOFFSETFROM:-0500
TZOFFSETTO:-0400
TZNAME:EDT
DTSTART:20270314T070000
END:DAYLIGHT
BEGIN:STANDARD
TZOFFSETFROM:-0400
TZOFFSETTO:-0500
TZNAME:EST
DTSTART:20271107T060000
END:STANDARD
END:VTIMEZONE
BEGIN:VEVENT
DTSTART;TZID=America/Toronto:20260424T183000
DTEND;TZID=America/Toronto:20260424T203000
DTSTAMP:20260424T052914
CREATED:20260406T172212Z
LAST-MODIFIED:20260406T172212Z
UID:72963-1777055400-1777062600@haldimandpress.com
SUMMARY:Ontario Christian Gleaners presentation
DESCRIPTION:Friday April 24 at 6:30 pm Ontario Christian Gleaners presentation by Peter Wierenga at Oneida United Church. The Gleaners make dried food products from surplus agricultural produce\, which is then provided to the hungry throughout the world. Refreshments to follow.  Free 914 Second Line Hagersville
URL:https://haldimandpress.com/event/ontario-christian-gleaners-presentation/
LOCATION:Oneida United Church\, 914 Second Line\, Hagersville\, Ontario\, N0A 1H0\, Canada
CATEGORIES:Church Event
END:VEVENT
END:VCALENDAR