BEGIN:VCALENDAR
VERSION:2.0
PRODID:-//The Haldimand Press - ECPv6.15.20//NONSGML v1.0//EN
CALSCALE:GREGORIAN
METHOD:PUBLISH
X-WR-CALNAME:The Haldimand Press
X-ORIGINAL-URL:https://haldimandpress.com
X-WR-CALDESC:Events for The Haldimand Press
REFRESH-INTERVAL;VALUE=DURATION:PT1H
X-Robots-Tag:noindex
X-PUBLISHED-TTL:PT1H
BEGIN:VTIMEZONE
TZID:America/Toronto
BEGIN:DAYLIGHT
TZOFFSETFROM:-0500
TZOFFSETTO:-0400
TZNAME:EDT
DTSTART:20240310T070000
END:DAYLIGHT
BEGIN:STANDARD
TZOFFSETFROM:-0400
TZOFFSETTO:-0500
TZNAME:EST
DTSTART:20241103T060000
END:STANDARD
BEGIN:DAYLIGHT
TZOFFSETFROM:-0500
TZOFFSETTO:-0400
TZNAME:EDT
DTSTART:20250309T070000
END:DAYLIGHT
BEGIN:STANDARD
TZOFFSETFROM:-0400
TZOFFSETTO:-0500
TZNAME:EST
DTSTART:20251102T060000
END:STANDARD
BEGIN:DAYLIGHT
TZOFFSETFROM:-0500
TZOFFSETTO:-0400
TZNAME:EDT
DTSTART:20260308T070000
END:DAYLIGHT
BEGIN:STANDARD
TZOFFSETFROM:-0400
TZOFFSETTO:-0500
TZNAME:EST
DTSTART:20261101T060000
END:STANDARD
END:VTIMEZONE
BEGIN:VEVENT
DTSTART;TZID=America/Toronto:20250417T130000
DTEND;TZID=America/Toronto:20250417T153000
DTSTAMP:20260423T072302
CREATED:20250409T163811Z
LAST-MODIFIED:20250409T163811Z
UID:59616-1744894800-1744903800@haldimandpress.com
SUMMARY:Chronic Disease Self-Management WORKSHOP
DESCRIPTION:Chronic Illness Workshop: Lynn Kuchard and Sharon Caruna\nMany people suffer with ongoing health conditions that effect so many areas of their life. We offer workshops geared to help people live life to the fullest with their ongoing health conditions. This upcoming workshop is free\, and runs one day a week\, for six weeks. You are welcome to bring a family member or caregiver with you. \nLearn ways to manage stress:\n  • Make healthier food choices\n  • Add exercise to your day\n  • Learn ways to deal with difficult emotions and depression\n  • Learn how to communicate with your healthcare team
URL:https://haldimandpress.com/event/chronic-disease-self-management-workshop/
LOCATION:HAC\, 34 Main St. S.\, Hagersville\, Ontario\, N0A 1H0\, Canada
CATEGORIES:Adult Only,Fitness,Free to Attend
ORGANIZER;CN="HAC":MAILTO:HAC@alzda.ca
END:VEVENT
END:VCALENDAR