BEGIN:VCALENDAR
VERSION:2.0
PRODID:-//The Haldimand Press - ECPv6.15.20//NONSGML v1.0//EN
CALSCALE:GREGORIAN
METHOD:PUBLISH
X-WR-CALNAME:The Haldimand Press
X-ORIGINAL-URL:https://haldimandpress.com
X-WR-CALDESC:Events for The Haldimand Press
REFRESH-INTERVAL;VALUE=DURATION:PT1H
X-Robots-Tag:noindex
X-PUBLISHED-TTL:PT1H
BEGIN:VTIMEZONE
TZID:America/Toronto
BEGIN:DAYLIGHT
TZOFFSETFROM:-0500
TZOFFSETTO:-0400
TZNAME:EDT
DTSTART:20240310T070000
END:DAYLIGHT
BEGIN:STANDARD
TZOFFSETFROM:-0400
TZOFFSETTO:-0500
TZNAME:EST
DTSTART:20241103T060000
END:STANDARD
BEGIN:DAYLIGHT
TZOFFSETFROM:-0500
TZOFFSETTO:-0400
TZNAME:EDT
DTSTART:20250309T070000
END:DAYLIGHT
BEGIN:STANDARD
TZOFFSETFROM:-0400
TZOFFSETTO:-0500
TZNAME:EST
DTSTART:20251102T060000
END:STANDARD
BEGIN:DAYLIGHT
TZOFFSETFROM:-0500
TZOFFSETTO:-0400
TZNAME:EDT
DTSTART:20260308T070000
END:DAYLIGHT
BEGIN:STANDARD
TZOFFSETFROM:-0400
TZOFFSETTO:-0500
TZNAME:EST
DTSTART:20261101T060000
END:STANDARD
END:VTIMEZONE
BEGIN:VEVENT
DTSTART;TZID=America/Toronto:20250715T131500
DTEND;TZID=America/Toronto:20250715T144500
DTSTAMP:20260422T210604
CREATED:20250623T164324Z
LAST-MODIFIED:20250623T164324Z
UID:62834-1752585300-1752590700@haldimandpress.com
SUMMARY:Canvas & Mocktails Jarvis
DESCRIPTION:Enjoy a social with a step by step painting program.\nAll program materials supplied.\nJarvis Lawn Bowling Club 1 James St.\nFree parking available\, and fully accessible.\nRegister for more details.  \nThese sessions are open to everyone in the community! 18+\, youth must be accompanied by an adult.
URL:https://haldimandpress.com/event/canvas-mocktails-jarvis/
LOCATION:ON
CATEGORIES:Adult Only,Arts,Family Friendly,Free to Attend,Fundraiser,Lunch,Outdoor
ATTACH;FMTTYPE=image/png:https://haldimandpress.com/wp-content/uploads/2025/06/offsite-canvas-painting-July-1.png
ORGANIZER;CN="HAC":MAILTO:HAC@alzda.ca
END:VEVENT
END:VCALENDAR