BEGIN:VCALENDAR
VERSION:2.0
PRODID:-//The Haldimand Press - ECPv6.15.20//NONSGML v1.0//EN
CALSCALE:GREGORIAN
METHOD:PUBLISH
X-ORIGINAL-URL:https://haldimandpress.com
X-WR-CALDESC:Events for The Haldimand Press
REFRESH-INTERVAL;VALUE=DURATION:PT1H
X-Robots-Tag:noindex
X-PUBLISHED-TTL:PT1H
BEGIN:VTIMEZONE
TZID:America/Toronto
BEGIN:DAYLIGHT
TZOFFSETFROM:-0500
TZOFFSETTO:-0400
TZNAME:EDT
DTSTART:20240310T070000
END:DAYLIGHT
BEGIN:STANDARD
TZOFFSETFROM:-0400
TZOFFSETTO:-0500
TZNAME:EST
DTSTART:20241103T060000
END:STANDARD
BEGIN:DAYLIGHT
TZOFFSETFROM:-0500
TZOFFSETTO:-0400
TZNAME:EDT
DTSTART:20250309T070000
END:DAYLIGHT
BEGIN:STANDARD
TZOFFSETFROM:-0400
TZOFFSETTO:-0500
TZNAME:EST
DTSTART:20251102T060000
END:STANDARD
BEGIN:DAYLIGHT
TZOFFSETFROM:-0500
TZOFFSETTO:-0400
TZNAME:EDT
DTSTART:20260308T070000
END:DAYLIGHT
BEGIN:STANDARD
TZOFFSETFROM:-0400
TZOFFSETTO:-0500
TZNAME:EST
DTSTART:20261101T060000
END:STANDARD
END:VTIMEZONE
BEGIN:VEVENT
DTSTART;TZID=America/Toronto:20251107T190000
DTEND;TZID=America/Toronto:20251107T230000
DTSTAMP:20260422T115151
CREATED:20250909T172443Z
LAST-MODIFIED:20250909T172443Z
UID:65179-1762542000-1762556400@haldimandpress.com
SUMMARY:Fisherville Lions - Ladies Night Out - Country Video Dance Party!
DESCRIPTION:Fisherville Lions – Ladies Night Out – Country Dance Party\nCountry and Western Video Dance Party\nFri Nov 7\, 2025  7 p.m. – 11 p.m.\nCash Bar\n19+ event\nTickets – $40 each\nFor tickets – contact Mandie 519-718-4719 or crazy_soccer_chic@hotmail.com
URL:https://haldimandpress.com/event/fisherville-lions-ladies-night-out-country-video-dance-party/
LOCATION:Fisherville Lions Community Centre\, 18 Main Ave W\,\, Fisherville\, ON\, N0A 1G0\, Canada
CATEGORIES:Adult Only
ATTACH;FMTTYPE=image/jpeg:https://haldimandpress.com/wp-content/uploads/2025/08/539102283_1087037433609380_1032968851776824655_n.jpg
ORGANIZER;CN="Mandie Marques":MAILTO:crazy_soccer_chic@hotmail.com
END:VEVENT
END:VCALENDAR