BEGIN:VCALENDAR
VERSION:2.0
PRODID:-//The Haldimand Press - ECPv6.15.20//NONSGML v1.0//EN
CALSCALE:GREGORIAN
METHOD:PUBLISH
X-WR-CALNAME:The Haldimand Press
X-ORIGINAL-URL:https://haldimandpress.com
X-WR-CALDESC:Events for The Haldimand Press
REFRESH-INTERVAL;VALUE=DURATION:PT1H
X-Robots-Tag:noindex
X-PUBLISHED-TTL:PT1H
BEGIN:VTIMEZONE
TZID:America/Toronto
BEGIN:DAYLIGHT
TZOFFSETFROM:-0500
TZOFFSETTO:-0400
TZNAME:EDT
DTSTART:20240310T070000
END:DAYLIGHT
BEGIN:STANDARD
TZOFFSETFROM:-0400
TZOFFSETTO:-0500
TZNAME:EST
DTSTART:20241103T060000
END:STANDARD
BEGIN:DAYLIGHT
TZOFFSETFROM:-0500
TZOFFSETTO:-0400
TZNAME:EDT
DTSTART:20250309T070000
END:DAYLIGHT
BEGIN:STANDARD
TZOFFSETFROM:-0400
TZOFFSETTO:-0500
TZNAME:EST
DTSTART:20251102T060000
END:STANDARD
BEGIN:DAYLIGHT
TZOFFSETFROM:-0500
TZOFFSETTO:-0400
TZNAME:EDT
DTSTART:20260308T070000
END:DAYLIGHT
BEGIN:STANDARD
TZOFFSETFROM:-0400
TZOFFSETTO:-0500
TZNAME:EST
DTSTART:20261101T060000
END:STANDARD
END:VTIMEZONE
BEGIN:VEVENT
DTSTART;TZID=America/Toronto:20250814T110000
DTEND;TZID=America/Toronto:20250814T130000
DTSTAMP:20260422T014638
CREATED:20250707T185000Z
LAST-MODIFIED:20250707T185000Z
UID:63230-1755169200-1755176400@haldimandpress.com
SUMMARY:H.A.C. BBQ with Cameron Caton as Elvis
DESCRIPTION:Join us for a fun-filled afternoon at the H.A.C. Open House\, featuring the return of the one and only Cameron Caton as Elvis—back by popular demand! Enjoy a free BBQ lunch\, live entertainment\, and a great community atmosphere. Admission is free\, with donations gratefully accepted to support the H.A.C. \nWeather permitting we will be outside so please dress accordingly and bring sun protection\, and a lawn chair to sit in. \nWe will have some great door prizes to win including tickets to Ripley’s Aquarium. \nRegistration Required by emailing HAC@alzda.ca or call 905-768-4488 ext. 100 if you have any questions.
URL:https://haldimandpress.com/event/h-a-c-bbq-with-cameron-caton-as-elvis/
LOCATION:HAC\, 34 Main St. S.\, Hagersville\, Ontario\, N0A 1H0\, Canada
CATEGORIES:Concert,Family Friendly,Free to Attend,Fundraiser,Lunch
ATTACH;FMTTYPE=image/png:https://haldimandpress.com/wp-content/uploads/2025/07/Jailhouse_-rock-theme-BBQ-updated.png
ORGANIZER;CN="HAC":MAILTO:HAC@alzda.ca
END:VEVENT
END:VCALENDAR