BEGIN:VCALENDAR
VERSION:2.0
PRODID:-//The Haldimand Press - ECPv6.15.20//NONSGML v1.0//EN
CALSCALE:GREGORIAN
METHOD:PUBLISH
X-WR-CALNAME:The Haldimand Press
X-ORIGINAL-URL:https://haldimandpress.com
X-WR-CALDESC:Events for The Haldimand Press
REFRESH-INTERVAL;VALUE=DURATION:PT1H
X-Robots-Tag:noindex
X-PUBLISHED-TTL:PT1H
BEGIN:VTIMEZONE
TZID:America/Toronto
BEGIN:DAYLIGHT
TZOFFSETFROM:-0500
TZOFFSETTO:-0400
TZNAME:EDT
DTSTART:20250309T070000
END:DAYLIGHT
BEGIN:STANDARD
TZOFFSETFROM:-0400
TZOFFSETTO:-0500
TZNAME:EST
DTSTART:20251102T060000
END:STANDARD
BEGIN:DAYLIGHT
TZOFFSETFROM:-0500
TZOFFSETTO:-0400
TZNAME:EDT
DTSTART:20260308T070000
END:DAYLIGHT
BEGIN:STANDARD
TZOFFSETFROM:-0400
TZOFFSETTO:-0500
TZNAME:EST
DTSTART:20261101T060000
END:STANDARD
BEGIN:DAYLIGHT
TZOFFSETFROM:-0500
TZOFFSETTO:-0400
TZNAME:EDT
DTSTART:20270314T070000
END:DAYLIGHT
BEGIN:STANDARD
TZOFFSETFROM:-0400
TZOFFSETTO:-0500
TZNAME:EST
DTSTART:20271107T060000
END:STANDARD
END:VTIMEZONE
BEGIN:VEVENT
DTSTART;TZID=America/Toronto:20260312T110000
DTEND;TZID=America/Toronto:20260312T120000
DTSTAMP:20260419T110247
CREATED:20260303T160147Z
LAST-MODIFIED:20260303T160147Z
UID:71530-1773313200-1773316800@haldimandpress.com
SUMMARY:St. Patrick's Day Cafe
DESCRIPTION:Join us March 12\, 2026\, at 11 a.m. for a St. Patrick’s Day Café! Relax\, sip\, and socialize at our cozy Café! Enjoy light refreshments\, warm or cold drinks\, and great conversation in a welcoming atmosphere. Whether you’re catching up with friends or meeting someone new\, it’s the perfect way to unwind and connect.
URL:https://haldimandpress.com/event/st-patricks-day-cafe/
LOCATION:Hagersville United Church\, 34 Main St S\, Hagersville\, Ontario\, N0A 1H0\, Canada
CATEGORIES:Free to Attend
ATTACH;FMTTYPE=image/png:https://haldimandpress.com/wp-content/uploads/2026/02/St.-Pats-Day-Cafe-Post.png
END:VEVENT
END:VCALENDAR