BEGIN:VCALENDAR
VERSION:2.0
PRODID:-//The Haldimand Press - ECPv6.15.20//NONSGML v1.0//EN
CALSCALE:GREGORIAN
METHOD:PUBLISH
X-ORIGINAL-URL:https://haldimandpress.com
X-WR-CALDESC:Events for The Haldimand Press
REFRESH-INTERVAL;VALUE=DURATION:PT1H
X-Robots-Tag:noindex
X-PUBLISHED-TTL:PT1H
BEGIN:VTIMEZONE
TZID:America/Toronto
BEGIN:DAYLIGHT
TZOFFSETFROM:-0500
TZOFFSETTO:-0400
TZNAME:EDT
DTSTART:20240310T070000
END:DAYLIGHT
BEGIN:STANDARD
TZOFFSETFROM:-0400
TZOFFSETTO:-0500
TZNAME:EST
DTSTART:20241103T060000
END:STANDARD
BEGIN:DAYLIGHT
TZOFFSETFROM:-0500
TZOFFSETTO:-0400
TZNAME:EDT
DTSTART:20250309T070000
END:DAYLIGHT
BEGIN:STANDARD
TZOFFSETFROM:-0400
TZOFFSETTO:-0500
TZNAME:EST
DTSTART:20251102T060000
END:STANDARD
BEGIN:DAYLIGHT
TZOFFSETFROM:-0500
TZOFFSETTO:-0400
TZNAME:EDT
DTSTART:20260308T070000
END:DAYLIGHT
BEGIN:STANDARD
TZOFFSETFROM:-0400
TZOFFSETTO:-0500
TZNAME:EST
DTSTART:20261101T060000
END:STANDARD
END:VTIMEZONE
BEGIN:VEVENT
DTSTART;TZID=America/Toronto:20251018T100000
DTEND;TZID=America/Toronto:20251018T140000
DTSTAMP:20260419T175604
CREATED:20250728T191810Z
LAST-MODIFIED:20250728T191810Z
UID:63869-1760781600-1760796000@haldimandpress.com
SUMMARY:3rd Annual Howl-o-Ween Pawty Fundraiser for Autism Dog Services
DESCRIPTION:The 3rd Annual Howl-o-Ween Pawty is an open to the public fundraising event organized by Autism Dog Services (www.autismdogservices.ca) The event will bring together children with their families and dogs\, ADS certified service dogs\, puppy raisers and service dogs in training. The fun-filled “Pawty” event will have entertainers\, singers\, entertainment\, line dancers\, food truck\, a people and puppy parade and local vendors. There will be games\, prizes and trophies given to the best dressed child\, dog and family! Entry Fee…cash donation!
URL:https://haldimandpress.com/event/3rd-annual-howl-o-ween-pawty-fundraiser-for-autism-dog-services/
LOCATION:Children’s Safety Village of Brant\, 407 Elgin St. Brantford ON N3S 7P5
CATEGORIES:Family Friendly,Free to Attend
END:VEVENT
END:VCALENDAR