BEGIN:VCALENDAR
VERSION:2.0
PRODID:-//The Haldimand Press - ECPv6.15.20//NONSGML v1.0//EN
CALSCALE:GREGORIAN
METHOD:PUBLISH
X-ORIGINAL-URL:https://haldimandpress.com
X-WR-CALDESC:Events for The Haldimand Press
REFRESH-INTERVAL;VALUE=DURATION:PT1H
X-Robots-Tag:noindex
X-PUBLISHED-TTL:PT1H
BEGIN:VTIMEZONE
TZID:America/Toronto
BEGIN:DAYLIGHT
TZOFFSETFROM:-0500
TZOFFSETTO:-0400
TZNAME:EDT
DTSTART:20240310T070000
END:DAYLIGHT
BEGIN:STANDARD
TZOFFSETFROM:-0400
TZOFFSETTO:-0500
TZNAME:EST
DTSTART:20241103T060000
END:STANDARD
BEGIN:DAYLIGHT
TZOFFSETFROM:-0500
TZOFFSETTO:-0400
TZNAME:EDT
DTSTART:20250309T070000
END:DAYLIGHT
BEGIN:STANDARD
TZOFFSETFROM:-0400
TZOFFSETTO:-0500
TZNAME:EST
DTSTART:20251102T060000
END:STANDARD
BEGIN:DAYLIGHT
TZOFFSETFROM:-0500
TZOFFSETTO:-0400
TZNAME:EDT
DTSTART:20260308T070000
END:DAYLIGHT
BEGIN:STANDARD
TZOFFSETFROM:-0400
TZOFFSETTO:-0500
TZNAME:EST
DTSTART:20261101T060000
END:STANDARD
END:VTIMEZONE
BEGIN:VEVENT
DTSTART;TZID=America/Toronto:20251214T140000
DTEND;TZID=America/Toronto:20251214T153000
DTSTAMP:20260423T225318
CREATED:20251124T215223Z
LAST-MODIFIED:20251124T215223Z
UID:68460-1765720800-1765726200@haldimandpress.com
SUMMARY:St. Paul's Chapel's Traditional Christmas Service
DESCRIPTION:Please join us on Sunday\, December 14/25 @ 2:00 pm for our Traditional Christmas Service in the historical St. Paul’s Chapel\, Middleport.  Everyone welcome!  Fellowship and Refreshments following the service.  Please bring a non-perishable donation for the Caledonia Food Bank.
URL:https://haldimandpress.com/event/st-pauls-chapels-traditional-christmas-service/
LOCATION:St. Paul’s Chapel\, Middleport\, 1159 Hwy 54\, Caledonia (Middleport)\, Ontario\, N3W 2G9\, Canada
CATEGORIES:Church Event
ATTACH;FMTTYPE=image/jpeg:https://haldimandpress.com/wp-content/uploads/2025/11/ChristmasServiceDec14-2025.JPEG.jpg
ORGANIZER;CN="St. Paul's Chapel Trustees":MAILTO:secretary@middleportheritage.ca
END:VEVENT
END:VCALENDAR