BEGIN:VCALENDAR
VERSION:2.0
PRODID:-//The Haldimand Press - ECPv6.15.20//NONSGML v1.0//EN
CALSCALE:GREGORIAN
METHOD:PUBLISH
X-ORIGINAL-URL:https://haldimandpress.com
X-WR-CALDESC:Events for The Haldimand Press
REFRESH-INTERVAL;VALUE=DURATION:PT1H
X-Robots-Tag:noindex
X-PUBLISHED-TTL:PT1H
BEGIN:VTIMEZONE
TZID:America/Toronto
BEGIN:DAYLIGHT
TZOFFSETFROM:-0500
TZOFFSETTO:-0400
TZNAME:EDT
DTSTART:20250309T070000
END:DAYLIGHT
BEGIN:STANDARD
TZOFFSETFROM:-0400
TZOFFSETTO:-0500
TZNAME:EST
DTSTART:20251102T060000
END:STANDARD
BEGIN:DAYLIGHT
TZOFFSETFROM:-0500
TZOFFSETTO:-0400
TZNAME:EDT
DTSTART:20260308T070000
END:DAYLIGHT
BEGIN:STANDARD
TZOFFSETFROM:-0400
TZOFFSETTO:-0500
TZNAME:EST
DTSTART:20261101T060000
END:STANDARD
BEGIN:DAYLIGHT
TZOFFSETFROM:-0500
TZOFFSETTO:-0400
TZNAME:EDT
DTSTART:20270314T070000
END:DAYLIGHT
BEGIN:STANDARD
TZOFFSETFROM:-0400
TZOFFSETTO:-0500
TZNAME:EST
DTSTART:20271107T060000
END:STANDARD
END:VTIMEZONE
BEGIN:VEVENT
DTSTART;TZID=America/Toronto:20260516T080000
DTEND;TZID=America/Toronto:20260517T150000
DTSTAMP:20260421T211023
CREATED:20260420T185654Z
LAST-MODIFIED:20260420T185654Z
UID:73435-1778918400-1779030000@haldimandpress.com
SUMMARY:Plant & Yard Sale - Onondaga Community Hall
DESCRIPTION:2-day Plant & Yard Sale at the Onondaga Community Hall. May 16 & May 17\, indoor and outdoor.  Come out and find your treasures and get your spring flowers.  Various types of plant sizes and types.  All trees $10 each.   Hot dogs & refreshments available.
URL:https://haldimandpress.com/event/plant-yard-sale-onondaga-community-hall/
LOCATION:Onondaga Community Hall\, 42 Brantford St.\, Onondaga\, Ontario\, Canada
CATEGORIES:Family Friendly,Free to Attend,Fundraiser,Lunch
ATTACH;FMTTYPE=image/jpeg:https://haldimandpress.com/wp-content/uploads/2026/04/Plant-and-Yard-Sale-Flyer-2026-JPEG.jpg
ORGANIZER;CN="Onondaga on the Grand":MAILTO:onondagaonthegrand@outlook.com
END:VEVENT
END:VCALENDAR