BEGIN:VCALENDAR
VERSION:2.0
PRODID:-//The Haldimand Press - ECPv6.15.20//NONSGML v1.0//EN
CALSCALE:GREGORIAN
METHOD:PUBLISH
X-WR-CALNAME:The Haldimand Press
X-ORIGINAL-URL:https://haldimandpress.com
X-WR-CALDESC:Events for The Haldimand Press
REFRESH-INTERVAL;VALUE=DURATION:PT1H
X-Robots-Tag:noindex
X-PUBLISHED-TTL:PT1H
BEGIN:VTIMEZONE
TZID:America/Toronto
BEGIN:DAYLIGHT
TZOFFSETFROM:-0500
TZOFFSETTO:-0400
TZNAME:EDT
DTSTART:20250309T070000
END:DAYLIGHT
BEGIN:STANDARD
TZOFFSETFROM:-0400
TZOFFSETTO:-0500
TZNAME:EST
DTSTART:20251102T060000
END:STANDARD
BEGIN:DAYLIGHT
TZOFFSETFROM:-0500
TZOFFSETTO:-0400
TZNAME:EDT
DTSTART:20260308T070000
END:DAYLIGHT
BEGIN:STANDARD
TZOFFSETFROM:-0400
TZOFFSETTO:-0500
TZNAME:EST
DTSTART:20261101T060000
END:STANDARD
BEGIN:DAYLIGHT
TZOFFSETFROM:-0500
TZOFFSETTO:-0400
TZNAME:EDT
DTSTART:20270314T070000
END:DAYLIGHT
BEGIN:STANDARD
TZOFFSETFROM:-0400
TZOFFSETTO:-0500
TZNAME:EST
DTSTART:20271107T060000
END:STANDARD
END:VTIMEZONE
BEGIN:VEVENT
DTSTART;TZID=America/Toronto:20260122T103000
DTEND;TZID=America/Toronto:20260122T120000
DTSTAMP:20260422T235455
CREATED:20260112T145249Z
LAST-MODIFIED:20260112T145249Z
UID:70142-1769077800-1769083200@haldimandpress.com
SUMMARY:H.A.C. Brunch: Highlights of Hobbies!
DESCRIPTION:Come and join us at the H.A.C. on January 22\, 2026! This month’s brunch is about the Highlights of Hobbies. Hobbies do so much more than fill our free time. They have been shown to be very good for us.  Join us for the first HAC Brunch of 2026 as we discuss all things hobbies- and how they can add even more to our lives. We encourage you to bring examples or photos of your own hobbies to share. \n📅 Thursday\, January 22\, 2026\n⏰ 10:30 a.m. – 12 p.m.\n📍 Location: United Church\n 34 Main St. S. Hagersville\, ON \nTo register please call: 905-768-4488 ext.100 or www.alzda.ca
URL:https://haldimandpress.com/event/h-a-c-brunch-highlights-of-hobbies/
LOCATION:Hagersville United Church\, 34 Main St S\, Hagersville\, Ontario\, N0A 1H0\, Canada
CATEGORIES:Free to Attend
ATTACH;FMTTYPE=image/jpeg:https://haldimandpress.com/wp-content/uploads/2026/01/H.A.C.-Brunch-Hobby-mini-flyer.jpg
END:VEVENT
END:VCALENDAR