BEGIN:VCALENDAR
VERSION:2.0
PRODID:-//The Haldimand Press - ECPv6.15.20//NONSGML v1.0//EN
CALSCALE:GREGORIAN
METHOD:PUBLISH
X-ORIGINAL-URL:https://haldimandpress.com
X-WR-CALDESC:Events for The Haldimand Press
REFRESH-INTERVAL;VALUE=DURATION:PT1H
X-Robots-Tag:noindex
X-PUBLISHED-TTL:PT1H
BEGIN:VTIMEZONE
TZID:America/Toronto
BEGIN:DAYLIGHT
TZOFFSETFROM:-0500
TZOFFSETTO:-0400
TZNAME:EDT
DTSTART:20240310T070000
END:DAYLIGHT
BEGIN:STANDARD
TZOFFSETFROM:-0400
TZOFFSETTO:-0500
TZNAME:EST
DTSTART:20241103T060000
END:STANDARD
BEGIN:DAYLIGHT
TZOFFSETFROM:-0500
TZOFFSETTO:-0400
TZNAME:EDT
DTSTART:20250309T070000
END:DAYLIGHT
BEGIN:STANDARD
TZOFFSETFROM:-0400
TZOFFSETTO:-0500
TZNAME:EST
DTSTART:20251102T060000
END:STANDARD
BEGIN:DAYLIGHT
TZOFFSETFROM:-0500
TZOFFSETTO:-0400
TZNAME:EDT
DTSTART:20260308T070000
END:DAYLIGHT
BEGIN:STANDARD
TZOFFSETFROM:-0400
TZOFFSETTO:-0500
TZNAME:EST
DTSTART:20261101T060000
END:STANDARD
END:VTIMEZONE
BEGIN:VEVENT
DTSTART;TZID=America/Toronto:20250821T180000
DTEND;TZID=America/Toronto:20250821T210000
DTSTAMP:20260423T132857
CREATED:20250801T194235Z
LAST-MODIFIED:20250801T194235Z
UID:64193-1755799200-1755810000@haldimandpress.com
SUMMARY:The Voice of The River: Grand River Community Play
DESCRIPTION:The Voice of The River: Grand River Community Play will be showing in Dunnville on Thursday\, August 21st at 6:00 pm at the RCAF Dunnville Museum/Base  \nThe Grand River Community Play Project: The Voice of The River is an interdisciplinary piece that will connect the communities and inhabitants that live along the length of the Grand River – a river that starts in the highlands of Dufferin County\, travels 310 km\, before emptying into Lake Erie at Port Maitland. About a million people live within the watershed\, a watershed that passes cities\, towns and villages\, trees\, wild grasses and coyotes\, and includes thirty-nine municipalities and two First Nations territories. \nThe Voice of The River is about community and the meaningful connection to Indigenous leaders and communities along the Grand River. It is an inclusive creative activity involving artists\, municipal and Indigenous leaders\, scientists\, Elders\, Community folk\, children\, NFP organizations\, educational institutions – and most importantly the Grand River. This is a project about storytelling – in all the ways stories can be told – in spoken word\, in song\, in dance\, ceremony\, in art installation\, in silence\, through different cultural lenses\, and via technology. It is being imagined as an environmental experience – something that will develop and build over time\, leading toward a unique presentation in all four seasons\, and over many years\, passing the experience along to next generations for them to reimagine\, for them to inhabit with their own stories. \nThe Voice of The River is a community event to celebrate arts\, culture and the Grand River. All are welcome!
URL:https://haldimandpress.com/event/the-voice-of-the-river-grand-river-community-play/
LOCATION:RCAF Dunnville Museum\, 536 Port Maitland Rd\, Dunnville\, ON\, Dunnville\, Ontario\, N1A 2W6\, Canada
CATEGORIES:Arts,Concert,Dance,Family Friendly,Free to Attend,Outdoor,Theatre
ATTACH;FMTTYPE=image/jpeg:https://haldimandpress.com/wp-content/uploads/2025/07/Dunnville-1.jpg
ORGANIZER;CN="Canadian Centre for Rural Creativity":MAILTO:info@ruralcreativity.org
END:VEVENT
BEGIN:VEVENT
DTSTART;TZID=America/Toronto:20250823T090000
DTEND;TZID=America/Toronto:20250823T120000
DTSTAMP:20260423T132857
CREATED:20250714T183318Z
LAST-MODIFIED:20250714T183318Z
UID:63559-1755939600-1755950400@haldimandpress.com
SUMMARY:Haldimand Bird Observatory's Bobolink Bonanza
DESCRIPTION:The Haldimand Bird Observatory is excited to announce our first Bobolink Bonanza event! Join us at our bird banding site on August 23rd to learn about this charismatic species at risk that breeds in the surrounding area. Included with an event ticket is a talk by an experienced Bobolink biologist\, a site tour\, bird banding demonstrations\, snacks and coffee in the morning and a BBQ lunch in the afternoon. There will also be nature-themed activities for kids\, so bring your little ones along to experience Bobolinks and other local birds up close! \nWe look forward to showing off our prairie restoration area and helping to foster connections between people and their local environment.
URL:https://haldimandpress.com/event/haldimand-bird-observatorys-bobolink-bonanza/
LOCATION:Haldimand Bird Observatory Banding Site\, 15 minutes from Cayuga & Dunnville (Details provided upon registration)\, Ontario\, Canada
CATEGORIES:Family Friendly,Outdoor
ATTACH;FMTTYPE=image/png:https://haldimandpress.com/wp-content/uploads/2025/07/Bobolink-Bonanza-Poster-1.png
END:VEVENT
END:VCALENDAR