BEGIN:VCALENDAR
VERSION:2.0
PRODID:-//The Haldimand Press - ECPv6.15.20//NONSGML v1.0//EN
CALSCALE:GREGORIAN
METHOD:PUBLISH
X-WR-CALNAME:The Haldimand Press
X-ORIGINAL-URL:https://haldimandpress.com
X-WR-CALDESC:Events for The Haldimand Press
REFRESH-INTERVAL;VALUE=DURATION:PT1H
X-Robots-Tag:noindex
X-PUBLISHED-TTL:PT1H
BEGIN:VTIMEZONE
TZID:America/Toronto
BEGIN:DAYLIGHT
TZOFFSETFROM:-0500
TZOFFSETTO:-0400
TZNAME:EDT
DTSTART:20250309T070000
END:DAYLIGHT
BEGIN:STANDARD
TZOFFSETFROM:-0400
TZOFFSETTO:-0500
TZNAME:EST
DTSTART:20251102T060000
END:STANDARD
BEGIN:DAYLIGHT
TZOFFSETFROM:-0500
TZOFFSETTO:-0400
TZNAME:EDT
DTSTART:20260308T070000
END:DAYLIGHT
BEGIN:STANDARD
TZOFFSETFROM:-0400
TZOFFSETTO:-0500
TZNAME:EST
DTSTART:20261101T060000
END:STANDARD
BEGIN:DAYLIGHT
TZOFFSETFROM:-0500
TZOFFSETTO:-0400
TZNAME:EDT
DTSTART:20270314T070000
END:DAYLIGHT
BEGIN:STANDARD
TZOFFSETFROM:-0400
TZOFFSETTO:-0500
TZNAME:EST
DTSTART:20271107T060000
END:STANDARD
END:VTIMEZONE
BEGIN:VEVENT
DTSTART;TZID=America/Toronto:20260228T130000
DTEND;TZID=America/Toronto:20260228T150000
DTSTAMP:20260423T060102
CREATED:20260212T185855Z
LAST-MODIFIED:20260212T185855Z
UID:71097-1772283600-1772290800@haldimandpress.com
SUMMARY:Try Curling Now - Open House!
DESCRIPTION:Glanford Curling is excited to offer a FREE Try Curling Now opportunity on Feb 28th 1-3pm at the Glanford Curling Club in honor of the Olympics!\nAdmission is free with a donation to the food bank.\nSnacks are provided and the bar will be Open.\nPlease bring clean indoor running shoes and we will provide the brooms\, grippers and a lesson!\nFor more information or to register\, please email shelleysydor@gmail.com\nOr just drop in on Feb 28th 1-3pm to the Glanford Curling Club\, 3091 Homestead Drive\, Mount Hope
URL:https://haldimandpress.com/event/try-curling-now-open-house/
LOCATION:Glanford Curling Club\, 3091 Homestead Drive\, Mount Hope\, Ontario\, L0R 1W0\, Canada
CATEGORIES:Family Friendly,Free to Attend
ORGANIZER;CN="Glanford Curling Club":MAILTO:shelleysydor@gmail.com
END:VEVENT
END:VCALENDAR