BEGIN:VCALENDAR
VERSION:2.0
PRODID:-//The Haldimand Press - ECPv6.15.20//NONSGML v1.0//EN
CALSCALE:GREGORIAN
METHOD:PUBLISH
X-WR-CALNAME:The Haldimand Press
X-ORIGINAL-URL:https://haldimandpress.com
X-WR-CALDESC:Events for The Haldimand Press
REFRESH-INTERVAL;VALUE=DURATION:PT1H
X-Robots-Tag:noindex
X-PUBLISHED-TTL:PT1H
BEGIN:VTIMEZONE
TZID:America/Toronto
BEGIN:DAYLIGHT
TZOFFSETFROM:-0500
TZOFFSETTO:-0400
TZNAME:EDT
DTSTART:20250309T070000
END:DAYLIGHT
BEGIN:STANDARD
TZOFFSETFROM:-0400
TZOFFSETTO:-0500
TZNAME:EST
DTSTART:20251102T060000
END:STANDARD
BEGIN:DAYLIGHT
TZOFFSETFROM:-0500
TZOFFSETTO:-0400
TZNAME:EDT
DTSTART:20260308T070000
END:DAYLIGHT
BEGIN:STANDARD
TZOFFSETFROM:-0400
TZOFFSETTO:-0500
TZNAME:EST
DTSTART:20261101T060000
END:STANDARD
BEGIN:DAYLIGHT
TZOFFSETFROM:-0500
TZOFFSETTO:-0400
TZNAME:EDT
DTSTART:20270314T070000
END:DAYLIGHT
BEGIN:STANDARD
TZOFFSETFROM:-0400
TZOFFSETTO:-0500
TZNAME:EST
DTSTART:20271107T060000
END:STANDARD
END:VTIMEZONE
BEGIN:VEVENT
DTSTART;TZID=America/Toronto:20260423T110000
DTEND;TZID=America/Toronto:20260423T120000
DTSTAMP:20260422T053913
CREATED:20260420T185444Z
LAST-MODIFIED:20260420T185444Z
UID:73249-1776942000-1776945600@haldimandpress.com
SUMMARY:Join us for our H.A.C. Dance Hall Social!
DESCRIPTION:On April 23rd at 11 a.m. Come and  Celebrate the golden era of local music and dancing (1920s–1980s) with classic tunes\, vintage photo displays\, guest stories\, and a delicious meal. Dress in your favourite era’s style and enjoy a nostalgic trip down memory lane!\nLunch will be provided. 📍 Location: 42 Main St. S. Hagersville\nTo register please call: 📞 1-905-768-4488 ext.100 or email ✉️ hac@alzda.ca
URL:https://haldimandpress.com/event/join-us-for-our-h-a-c-dance-hall-social/
LOCATION:Hagersville United Church\, 34 Main St S\, Hagersville\, Ontario\, N0A 1H0\, Canada
CATEGORIES:Free to Attend,Lunch
ATTACH;FMTTYPE=image/jpeg:https://haldimandpress.com/wp-content/uploads/2026/04/Dance-Hall-social-post-scaled.jpg
ORGANIZER;CN="HAC":MAILTO:HAC@alzda.ca
END:VEVENT
END:VCALENDAR