BEGIN:VCALENDAR
VERSION:2.0
PRODID:-//The Haldimand Press - ECPv6.15.20//NONSGML v1.0//EN
CALSCALE:GREGORIAN
METHOD:PUBLISH
X-WR-CALNAME:The Haldimand Press
X-ORIGINAL-URL:https://haldimandpress.com
X-WR-CALDESC:Events for The Haldimand Press
REFRESH-INTERVAL;VALUE=DURATION:PT1H
X-Robots-Tag:noindex
X-PUBLISHED-TTL:PT1H
BEGIN:VTIMEZONE
TZID:America/Toronto
BEGIN:DAYLIGHT
TZOFFSETFROM:-0500
TZOFFSETTO:-0400
TZNAME:EDT
DTSTART:20240310T070000
END:DAYLIGHT
BEGIN:STANDARD
TZOFFSETFROM:-0400
TZOFFSETTO:-0500
TZNAME:EST
DTSTART:20241103T060000
END:STANDARD
BEGIN:DAYLIGHT
TZOFFSETFROM:-0500
TZOFFSETTO:-0400
TZNAME:EDT
DTSTART:20250309T070000
END:DAYLIGHT
BEGIN:STANDARD
TZOFFSETFROM:-0400
TZOFFSETTO:-0500
TZNAME:EST
DTSTART:20251102T060000
END:STANDARD
BEGIN:DAYLIGHT
TZOFFSETFROM:-0500
TZOFFSETTO:-0400
TZNAME:EDT
DTSTART:20260308T070000
END:DAYLIGHT
BEGIN:STANDARD
TZOFFSETFROM:-0400
TZOFFSETTO:-0500
TZNAME:EST
DTSTART:20261101T060000
END:STANDARD
END:VTIMEZONE
BEGIN:VEVENT
DTSTART;TZID=America/Toronto:20251218T103000
DTEND;TZID=America/Toronto:20251218T123000
DTSTAMP:20260421T161657
CREATED:20251209T163054Z
LAST-MODIFIED:20251209T163054Z
UID:69071-1766053800-1766061000@haldimandpress.com
SUMMARY:H.A.C. Holiday Special!
DESCRIPTION:Come and join us for the H.A.C. (Health\, Activity\, Community) Holiday Special: December 18th.  Enjoy the finest of our HAC programs all wrapped up into our Christmas special. Our best cooks will be serving some delicious food as we listen and sing along Christmas carols with an acoustic musical guest\, and find comfort in holiday traditions\, food\, and socializing with one another.  \n📅 Thursday\, December 18\, 2025\n⏰ 10:30 a.m. – 12:30 p.m.\n📍 Location: United Church\, 34 Main Street. S\, Hagersville \nTo register please call:\n📞 1-905-768-4488 ext.100\n✉️ hac@alzda.ca\n💻 https://hac.alzda.ca
URL:https://haldimandpress.com/event/h-a-c-holiday-special/
LOCATION:Ontario
CATEGORIES:Free to Attend
ATTACH;FMTTYPE=image/jpeg:https://haldimandpress.com/wp-content/uploads/2025/12/christmas-scial-flyer-square.jpg
END:VEVENT
BEGIN:VEVENT
DTSTART;TZID=America/Toronto:20251231T103000
DTEND;TZID=America/Toronto:20251231T120000
DTSTAMP:20260421T161657
CREATED:20251216T163358Z
LAST-MODIFIED:20251216T163358Z
UID:69303-1767177000-1767182400@haldimandpress.com
SUMMARY:New Year's Eve Party
DESCRIPTION:Celebrate New Beginnings…H.A.C. Style!   \nJoin us at the H.A.C. to ring in the new year on a positive note. It’s the perfect excuse to gather together to toast and reflect on great memories made this past year\, and to celebrate what’s to come. Don’t miss out on this chance to be a part of a fancy\, festive new years party filled with fun\, laughter\, tasty food\, and great company.
URL:https://haldimandpress.com/event/new-years-eve-party/
LOCATION:Hagersville United Church\, 34 Main St S\, Hagersville\, Ontario\, N0A 1H0\, Canada
CATEGORIES:Free to Attend
ATTACH;FMTTYPE=image/jpeg:https://haldimandpress.com/wp-content/uploads/2025/12/New-Years-party-facebook-post-1.jpg
ORGANIZER;CN="HAC":MAILTO:HAC@alzda.ca
END:VEVENT
END:VCALENDAR